BEGIN:VCALENDAR
VERSION:2.0
PRODID:icalendar-ruby
CALSCALE:GREGORIAN
METHOD:PUBLISH
BEGIN:VEVENT
DTSTAMP:20260420T162040Z
UID:6-1182923@cantonfirstnaz.com
DTSTART:20261004T153000Z
DTEND:20261004T163000Z
CLASS:PUBLIC
CREATED:20260420T095134
DESCRIPTION:Join us for our Sunday morning worship service. We are meeting 
 in person at 10:30am every Sunday.\nThe service will be livestreamed on ou
 r YouTube Channel and on Facebook.
LAST-MODIFIED:20260420T095134
LOCATION:
SUMMARY:Sunday Morning Worship
URL;VALUE=URI:https://cantonfirstnaz.com/events/sunday-morning-worship/2026
 -10-04
ATTACH;FILENAME=cfvidmain.jpg;FMTTYPE=image/jpeg:https://dq5pwpg1q8ru0.clou
 dfront.net/2025/03/18/20/33/44/06deeb40-04ad-4cc7-83b2-adae4cfc9138/cfvidm
 ain.jpg
END:VEVENT
END:VCALENDAR
